BEGIN:VCALENDAR
VERSION:2.0
PRODID:-//Mears for Alaska - ECPv6.6.3//NONSGML v1.0//EN
CALSCALE:GREGORIAN
METHOD:PUBLISH
X-ORIGINAL-URL:https://dyx.mearsforalaska.com
X-WR-CALDESC:Events for Mears for Alaska
REFRESH-INTERVAL;VALUE=DURATION:PT1H
X-Robots-Tag:noindex
X-PUBLISHED-TTL:PT1H
BEGIN:VTIMEZONE
TZID:America/Anchorage
BEGIN:DAYLIGHT
TZOFFSETFROM:-0900
TZOFFSETTO:-0800
TZNAME:AKDT
DTSTART:20240310T110000
END:DAYLIGHT
BEGIN:STANDARD
TZOFFSETFROM:-0800
TZOFFSETTO:-0900
TZNAME:AKST
DTSTART:20241103T100000
END:STANDARD
END:VTIMEZONE
BEGIN:VEVENT
DTSTART;TZID=America/Anchorage:20240823T170000
DTEND;TZID=America/Anchorage:20240823T190000
DTSTAMP:20260420T233208
CREATED:20240816T223039Z
LAST-MODIFIED:20240820T215234Z
UID:158-1724432400-1724439600@dyx.mearsforalaska.com
SUMMARY:Fridays at the Park: Chugach Foothills Park
DESCRIPTION:Join Donna for the next of her “Fridays in the Park” events. Friday\, August 23rd\, the event will be at Chugach Foothills Park from 5pm to 7pm. There will be snacks and drinks\, and this will be a great opportunity to talk to Donna about your questions and ideas for our community and Alaska.\nIf you can’t make it to this Friday\, we’re holding them every Friday in August! The last one is August 30th at Chanshtnu Muldoon Park.
URL:https://dyx.mearsforalaska.com/event/fridays-at-the-park-chugach-foothills-park/
LOCATION:Chugach Foothills Park\, 7975 Pioneer Dr\, Anchorage\, AK\, 99504\, United States
CATEGORIES:Fridays at the Park
ATTACH;FMTTYPE=image/png:https://dyx.mearsforalaska.com/wp-content/uploads/2024/08/DonnaMearsforAlaska_2024-08_FridaysinthePark_23-ChugachFoothills_FacebookCover.png
END:VEVENT
END:VCALENDAR