BEGIN:VCALENDAR
VERSION:2.0
PRODID:-//Mears for Alaska - ECPv6.6.3//NONSGML v1.0//EN
CALSCALE:GREGORIAN
METHOD:PUBLISH
X-WR-CALNAME:Mears for Alaska
X-ORIGINAL-URL:https://dyx.mearsforalaska.com
X-WR-CALDESC:Events for Mears for Alaska
REFRESH-INTERVAL;VALUE=DURATION:PT1H
X-Robots-Tag:noindex
X-PUBLISHED-TTL:PT1H
BEGIN:VTIMEZONE
TZID:America/Anchorage
BEGIN:DAYLIGHT
TZOFFSETFROM:-0900
TZOFFSETTO:-0800
TZNAME:AKDT
DTSTART:20240310T110000
END:DAYLIGHT
BEGIN:STANDARD
TZOFFSETFROM:-0800
TZOFFSETTO:-0900
TZNAME:AKST
DTSTART:20241103T100000
END:STANDARD
END:VTIMEZONE
BEGIN:VEVENT
DTSTART;TZID=America/Anchorage:20240830T170000
DTEND;TZID=America/Anchorage:20240830T190000
DTSTAMP:20260420T232827
CREATED:20240817T014429Z
LAST-MODIFIED:20240820T215303Z
UID:197-1725037200-1725044400@dyx.mearsforalaska.com
SUMMARY:Fridays at the Park: Chanshtnu Muldoon Park
DESCRIPTION:Join Donna for the next of her “Fridays in the Park” events. Friday\, August 30th\, the event will be at Chanshtnu Muldoon Park from 5pm to 7pm. There will be snacks and drinks\, and this will be a great opportunity to talk to Donna about your questions and ideas for our community and Alaska.\n  \nStay tuned for more events like Fridays in the Park where you can meet and chat with Donna!
URL:https://dyx.mearsforalaska.com/event/fridays-at-the-park-chanshtnu-muldoon-park/
LOCATION:Chanshtnu Muldoon Park\, 1301 Muldoon Rd\, Anchorage\, AK\, 99504\, United States
CATEGORIES:Fridays at the Park
ATTACH;FMTTYPE=image/png:https://dyx.mearsforalaska.com/wp-content/uploads/2024/08/DonnaMearsforAlaska_2024-08_FridaysinthePark_30-Chanshtnu_FacebookCover.png
END:VEVENT
END:VCALENDAR