BEGIN:VCALENDAR
VERSION:2.0
PRODID:-//Mears for Alaska - ECPv6.6.3//NONSGML v1.0//EN
CALSCALE:GREGORIAN
METHOD:PUBLISH
X-WR-CALNAME:Mears for Alaska
X-ORIGINAL-URL:https://dyx.mearsforalaska.com
X-WR-CALDESC:Events for Mears for Alaska
REFRESH-INTERVAL;VALUE=DURATION:PT1H
X-Robots-Tag:noindex
X-PUBLISHED-TTL:PT1H
BEGIN:VTIMEZONE
TZID:America/Anchorage
BEGIN:DAYLIGHT
TZOFFSETFROM:-0900
TZOFFSETTO:-0800
TZNAME:AKDT
DTSTART:20240310T110000
END:DAYLIGHT
BEGIN:STANDARD
TZOFFSETFROM:-0800
TZOFFSETTO:-0900
TZNAME:AKST
DTSTART:20241103T100000
END:STANDARD
END:VTIMEZONE
BEGIN:VEVENT
DTSTART;VALUE=DATE:20241105
DTEND;VALUE=DATE:20241106
DTSTAMP:20260420T173448
CREATED:20240820T212559Z
LAST-MODIFIED:20240916T232342Z
UID:243-1730764800-1730851199@dyx.mearsforalaska.com
SUMMARY:Election Day
DESCRIPTION:Vote in the General Election:\nOctober 21st: Early Voting Begins\nOctober 26th: Deadline to Apply for Absentee Ballot\nNovember 5th: Last Day to Vote \nRenew your vote by mail application online here. \nFor Absentee Ballots\, Remember to:\n•  Sign and Add a Voter Identifier\n•  Get a Witness Signature\n•  Add a Stamp OR Return to an Early Voting Location (like the Division of Elections at 2525 Gambell St.)\n•  Return your Ballot Early \nTo sign up for an absentee ballot and the latest information\, visit the Division of Elections website elections.Alaska.gov
URL:https://dyx.mearsforalaska.com/event/general-election/
LOCATION:Division of Elections\, 2525 Gambell St\, Anchorage\, AK\, 99503
ATTACH;FMTTYPE=image/png:https://dyx.mearsforalaska.com/wp-content/uploads/2024/08/MearsforAlaska_VOTE-web2.png
END:VEVENT
END:VCALENDAR